BEGIN:VCALENDAR
VERSION:2.0
PRODID:icalendar-ruby
CALSCALE:GREGORIAN
METHOD:PUBLISH
BEGIN:VEVENT
DTSTAMP:20260419T130204Z
UID:226-223889@ebcmeet.com
DTSTART:20260503T133000Z
DTEND:20260503T150000Z
CLASS:PUBLIC
CREATED:20260323T145841
DESCRIPTION:
LAST-MODIFIED:20260323T145841
LOCATION:
SUMMARY:Watoto Children's Choir
URL;VALUE=URI:https://www.ebcmeet.com/events/watoto-childrens-choir--226/20
 26-05-03
ATTACH;FILENAME=646203644_945717614460106_853983218784824470_n-2-1.jpg;FMTT
 YPE=image/jpeg:https://dq5pwpg1q8ru0.cloudfront.net/2026/03/23/17/58/41/e8
 9df440-c807-41f2-a5b9-c3f3c2ff44ef/646203644_945717614460106_8539832187848
 24470_n-2-1.jpg
END:VEVENT
END:VCALENDAR
