BEGIN:VCALENDAR
VERSION:2.0
PRODID:icalendar-ruby
CALSCALE:GREGORIAN
METHOD:PUBLISH
BEGIN:VEVENT
DTSTAMP:20260419T232008Z
UID:234-227494@ebcmeet.com
DTSTART:20260606T123000Z
DTEND:20260606T153000Z
CLASS:PUBLIC
CREATED:20260327T132331
DESCRIPTION:GriefShare is a support program for those who are navigating th
 e loss of a loved one. A New Session will begin on April 25th. Please call
  the church office to register with your name and contact information. For
  more information pick up a brochure in the church foyer or speak to Deaco
 n April Lucas or Sister Fenessa Williams after service.
LAST-MODIFIED:20260327T132331
LOCATION:
SUMMARY:GriefShare
URL;VALUE=URI:https://www.ebcmeet.com/events/griefshare--234/2026-06-06
ATTACH;FILENAME=Starting-April-25th.jpg;FMTTYPE=image/jpeg:https://dq5pwpg1
 q8ru0.cloudfront.net/2026/03/27/16/22/59/0a89837f-e0dd-4805-aeae-837bb23f7
 6c1/Starting-April-25th.jpg
END:VEVENT
END:VCALENDAR
